BEGIN:VCALENDAR
VERSION:2.0
PRODID:icalendar-ruby
CALSCALE:GREGORIAN
METHOD:PUBLISH
BEGIN:VEVENT
DTSTAMP:20260421T141519Z
UID:7-247870@newlifeevansville.com
DTSTART:20241124T164000Z
DTEND:20241124T180000Z
CLASS:PUBLIC
CREATED:20260421T064302
DESCRIPTION:Sunday Service Begins at 10:40 AM Every Week Here at New Life C
 hurch.\nDonuts and Snacks are Served Before Service and Children's Church 
 Goes On Alongside the Main Service in the G.R.O.W Classrooms.
LAST-MODIFIED:20260421T064302
LOCATION:2145 East Columbia St. Evansville\, IN 
SUMMARY:Sunday Service
URL;VALUE=URI:https://www.newlifeevansville.com/events/sunday-service/2024-
 11-24
END:VEVENT
END:VCALENDAR
